BEGIN:VCALENDAR
VERSION:2.0
METHOD:PUBLISH
X-WR-CALNAME:Mercociudades |  septiembre 06 2016- septiembre 06 2016
PRODID:-//strange bird labs//Drupal iCal API//EN
BEGIN:VEVENT
DTSTAMP;VALUE=DATE-TIME:20260422T042843Z
DTSTART;VALUE=DATE-TIME:20160905T183700Z
DTEND;VALUE=DATE-TIME:20020203
UID:http://www.mercociudades.net/node/5966
URL;VALUE=URI:http://www.mercociudades.net/node/5966
SUMMARY:2º Foro de Ciudades Inteligentes 
DESCRIPTION:<p>Segundo Foro Ciudades Inteligentes\, en Montevideo\, Uruguay.<br />
 <a href=\\"http\://www.mercociudades.org/node/5971\\">M&aacute\;s informaci&oacute\;n</a></p>
 <p>&nbsp\;</p>
 
END:VEVENT
BEGIN:VEVENT
DTSTAMP;VALUE=DATE-TIME:20260422T042843Z
DTSTART;VALUE=DATE-TIME:20160905T184100Z
DTEND;VALUE=DATE-TIME:20020203
UID:http://www.mercociudades.net/node/6023
URL;VALUE=URI:http://www.mercociudades.net/node/6023
SUMMARY:XLVII Reunión del Consejo de Mercociudades en Canoas\, Brasil. 
DESCRIPTION:<p>XLVII Reuni&oacute\;n del Consejo de Mercociudades en Canoas\, Brasil.</p>
 <p><a href=\\"http\://mercociudades.org/node/6018\\">M&aacute\;s informaci&oacute\;n </a><br />
 &nbsp\;</p>
 <p>&nbsp\;</p>
 
END:VEVENT
END:VCALENDAR
